BEGIN:VCALENDAR
VERSION:2.0
PRODID:-//Music Pool Berlin - ECPv6.15.20//NONSGML v1.0//EN
CALSCALE:GREGORIAN
METHOD:PUBLISH
X-ORIGINAL-URL:https://www.musicpoolberlin.net
X-WR-CALDESC:Veranstaltungen für Music Pool Berlin
REFRESH-INTERVAL;VALUE=DURATION:PT1H
X-Robots-Tag:noindex
X-PUBLISHED-TTL:PT1H
BEGIN:VTIMEZONE
TZID:Europe/Berlin
BEGIN:DAYLIGHT
TZOFFSETFROM:+0100
TZOFFSETTO:+0200
TZNAME:CEST
DTSTART:20250330T010000
END:DAYLIGHT
BEGIN:STANDARD
TZOFFSETFROM:+0200
TZOFFSETTO:+0100
TZNAME:CET
DTSTART:20251026T010000
END:STANDARD
BEGIN:DAYLIGHT
TZOFFSETFROM:+0100
TZOFFSETTO:+0200
TZNAME:CEST
DTSTART:20260329T010000
END:DAYLIGHT
BEGIN:STANDARD
TZOFFSETFROM:+0200
TZOFFSETTO:+0100
TZNAME:CET
DTSTART:20261025T010000
END:STANDARD
BEGIN:DAYLIGHT
TZOFFSETFROM:+0100
TZOFFSETTO:+0200
TZNAME:CEST
DTSTART:20270328T010000
END:DAYLIGHT
BEGIN:STANDARD
TZOFFSETFROM:+0200
TZOFFSETTO:+0100
TZNAME:CET
DTSTART:20271031T010000
END:STANDARD
END:VTIMEZONE
BEGIN:VEVENT
DTSTART;TZID=Europe/Berlin:20260527T190000
DTEND;TZID=Europe/Berlin:20260527T230000
DTSTAMP:20260423T200646
CREATED:20260423T102836Z
LAST-MODIFIED:20260423T110952Z
UID:10000034-1779908400-1779922800@www.musicpoolberlin.net
SUMMARY:Getting Gigs: How can we support each other?
DESCRIPTION:Playing live is at the heart of musical practice\, however getting gigs and booking tours has become difficult\, in particular for upcoming artists. In the current environment of high prices for shows and touring\, as well as people having less money to spend on shows\, there is less readiness for risks across the music business. Sometimes\, gigs can be cancelled at the last minute. \nWe would like to discuss together with you all\, how we can support each other and still make gigs happen for all of us. How can we build booking structures in solidarity with each other? \nWe are organizing the evening with Jamila of the band Jamila & The Other Heroes\, who are already practicing ways of booking in solidarity. We want to discuss different approaches\, models and examples and maybe come up with new ideas as well. \nThe community evening will be a mixed format – starting off with a panel conversation\, then a participatory exercise and conversation with everyone\, and then networking\, music and drinks.
URL:https://www.musicpoolberlin.net/event/getting-gigs-how-can-we-support-each-other/
LOCATION:Riverside Studios\, Pfuelstr. 5\, Berlin\, 10997\, Germany
CATEGORIES:Community Evening
ATTACH;FMTTYPE=image/png:https://www.musicpoolberlin.net/app/uploads/sites/2/2026/04/9-e1776946869875.png
END:VEVENT
END:VCALENDAR